BEGIN:VCALENDAR
VERSION:2.0
PRODID:-//eventon.com NONSGML v1.0//EN
CALSCALE:GREGORIAN
METHOD:PUBLISH
BEGIN:VEVENT
UID:69e5f1d8285b2
DTSTAMP:20260420T092856Z
DTSTART:20230223T050000Z
DTEND:20230223T063000Z
LOCATION:Virtueller Raum
SUMMARY:elternpowertalk 2023:  10. Klasse und wie weiter?
DESCRIPTION:Welche Ausbildung passt zu meinem Kind? Wie findet es den richt
 igen Ausbildungsbetrieb? Wie kann ich mein Kind dabei am besten unterstütz
 en? In dieser digitalen Talkrunde erhalten Sie Einblicke in unterschiedlich
 e Berufswege sowie deren Zukunftsaussichten und können Ihre persönlichen 
 Fragen an die Expertinnen und Experten der Industrie- und Handelskammer\,  
 Handwerkskammer\,  Agentur[..]\nhttps://elternpower-brandenburg.de/events/e
 lternpowertalk-2023-10-klasse-und-wie-weiter-2
URL:https://elternpower-brandenburg.de/events/elternpowertalk-2023-10-klasse-und-wie-weiter-2
END:VEVENT
END:VCALENDAR