BEGIN:VCALENDAR
VERSION:2.0
PRODID:-//eventon.com NONSGML v1.0//EN
CALSCALE:GREGORIAN
METHOD:PUBLISH
BEGIN:VEVENT
UID:69eb2b9a87c08
DTSTAMP:20260424T083642Z
DTSTART:20230511T190000Z
DTEND:20230512T010000Z
LOCATION:Lise-Meitner-Oberschule Hegermühlenstraße 58\,  15344 Strausberg
SUMMARY:Lehrberufeschau des Handwerks in Strausberg
DESCRIPTION:Vielfalt des Handwerks kennenlernen – Berufsorientierung zum 
 Mitmachen und Ausprobieren! Brennt euch die Zukunft unter den Nägeln? Habt
  ihr noch keinen Plan\,  wie´s nach der Schule weitergeht? Dann seid ihr b
 ei der Lehrberufeschau des Handwerks genau richtig! Schnuppert in die Gewer
 ke\,  trefft Meister und Gesellen regionaler Betriebe\,  fühlt ihnen auf[.
 .]\nhttps://elternpower-brandenburg.de/events/lehrberufeschau-des-handwerks
 -in-strausberg
URL:https://elternpower-brandenburg.de/events/lehrberufeschau-des-handwerks-in-strausberg
END:VEVENT
END:VCALENDAR