BEGIN:VCALENDAR
VERSION:2.0
PRODID:-//eventon.com NONSGML v1.0//EN
CALSCALE:GREGORIAN
METHOD:PUBLISH
BEGIN:VEVENT
UID:69e8a4cfa3de8
DTSTAMP:20260422T103703Z
DTSTART:20230828T200000Z
DTEND:20230829T003000Z
LOCATION:Albert-Schweitzer-Oberschule Schulstraße 1\,  15848 Beeskow
SUMMARY:Lehrberufeschau des Handwerks in Eisenhüttenstadt
DESCRIPTION:Vielfalt des Handwerks kennenlernen – Berufsorientierung zum 
 Mitmachen und Ausprobieren! Brennt euch die Zukunft unter den Nägeln? Habt
  ihr noch keinen Plan\,  wie´s nach der Schule weitergeht? Dann seid ihr b
 ei der Lehrberufeschau des Handwerks genau richtig! Schnuppert in die Gewer
 ke\,  trefft Meister und Gesellen regionaler Betriebe\,  fühlt ihnen auf[.
 .]\nhttps://elternpower-brandenburg.de/events/lehrberufeschau-des-handwerks
 -in-eisenhuettenstadt-2
URL:https://elternpower-brandenburg.de/events/lehrberufeschau-des-handwerks-in-eisenhuettenstadt-2
END:VEVENT
END:VCALENDAR