BEGIN:VCALENDAR
VERSION:2.0
PRODID:-//eventon.com NONSGML v1.0//EN
CALSCALE:GREGORIAN
METHOD:PUBLISH
BEGIN:VEVENT
UID:69ea334bbc172
DTSTAMP:20260423T145715Z
DTSTART:20230216T020000Z
DTEND:20230216T030000Z
LOCATION:
SUMMARY:AGRARaktiv - "Der Gärtner war´s. Immer. Alles zum Traumberuf Gärtner."
DESCRIPTION:Unsere Online-Seminarreihe geht auch im neuen Jahr mit spannend
 en Themen weiter. Kommen Sie in unseren ca. 1-stündigen Seminaren mit Fach
 leuten ins Gespräch. Alle Teilnehmer:innen erhalten im Anschluss eine Besc
 heinigung über die Teilnahme am Seminar. .Mit diesem Online-Angebot geben 
 wir Ihnen Hintergrundinformationen über die Vielfältigkeit der 14 Grünen
  Berufe und möchten[..]\nhttps://elternpower-brandenburg.de/events/berufs-
 und-studienorientierung-im-gruenen-bereich-agraraktiv-der-gaertner-wars-imm
 er-alles-zum-traumberuf-gaertner
URL:https://elternpower-brandenburg.de/events/berufs-und-studienorientierung-im-gruenen-bereich-agraraktiv-der-gaertner-wars-immer-alles-zum-traumberuf-gaertner
END:VEVENT
END:VCALENDAR