BEGIN:VCALENDAR
VERSION:2.0
PRODID:-//eventon.com NONSGML v1.0//EN
CALSCALE:GREGORIAN
METHOD:PUBLISH
BEGIN:VEVENT
UID:69ea334bbc1d3
DTSTAMP:20260423T145715Z
DTSTART:20230518T020000Z
DTEND:20230518T030000Z
LOCATION:
SUMMARY:AGRARaktiv - "Pssst! Schon von der fantastischen Möglichkeit der Praktikumswoche '5-5-5' gehört?"
DESCRIPTION:Unsere Online-Seminarreihe geht auch im neuen Jahr mit spannend
 en Themen weiter. Kommen Sie in unseren ca. 1-stündigen Seminaren mit Fach
 leuten ins Gespräch. Alle Teilnehmer:innen erhalten im Anschluss eine Besc
 heinigung über die Teilnahme am Seminar. .Mit diesem Online-Angebot geben 
 wir Ihnen Hintergrundinformationen über die Vielfältigkeit der 14 Grünen
  Berufe und möchten[..]\nhttps://elternpower-brandenburg.de/events/berufs-
 und-studienorientierung-im-gruenen-bereich-agraraktiv-pssst-schon-von-der-f
 antastischen-moeglichkeit-der-praktikumswoche-5-5-5-gehoert
URL:https://elternpower-brandenburg.de/events/berufs-und-studienorientierung-im-gruenen-bereich-agraraktiv-pssst-schon-von-der-fantastischen-moeglichkeit-der-praktikumswoche-5-5-5-gehoert
END:VEVENT
END:VCALENDAR