BEGIN:VCALENDAR
VERSION:2.0
PRODID:-//eventon.com NONSGML v1.0//EN
CALSCALE:GREGORIAN
METHOD:PUBLISH
BEGIN:VEVENT
UID:69e731908dce1
DTSTAMP:20260421T081304Z
DTSTART:20230217T030000Z
DTEND:20230217T043000Z
LOCATION:Berufsinformationszentrum (BiZ) Potsdam  Horstweg 102-108 (EG)
SUMMARY:"Berufe bei der Bundespolizei"
DESCRIPTION:Ein/e Einstellungsberater/in informiert über die mittlere und 
 gehobene Laufbahn. Angesprochen werden Voraussetzungen\,  Auswahlverfahren\
 ,  Ausbildungsinhalte und -ablauf sowie spätere Einsatzmöglichkeiten. WIC
 HTIG: Für die Tei eine Voranmeldung unter Tel.: 0331/880-2149 oder E-Mail:
  Potsdam.BiZ@arbeitsagentur.de erforderlich! Weitere Informationen finden S
 ie hier &nbsp;\nhttps://elternpower-brandenburg.de/events/berufe-bei-der-bu
 ndespolizei
URL:https://elternpower-brandenburg.de/events/berufe-bei-der-bundespolizei
END:VEVENT
END:VCALENDAR