BEGIN:VCALENDAR
VERSION:2.0
PRODID:-//eventon.com NONSGML v1.0//EN
CALSCALE:GREGORIAN
METHOD:PUBLISH
BEGIN:VEVENT
UID:69e5ee817a278
DTSTAMP:20260420T091441Z
DTSTART:20230318T000000Z
DTEND:20230318T030000Z
LOCATION:Beratungsbüro &quot;Zukunftsteam&quot; Ritterstraße 9 (Zugang über Schmiedestraße)\,  Senftenberg
SUMMARY:TAG DER UNIFORMEN
DESCRIPTION:Karriereberaterinnen und Karriereberater sind für Sie vor Ort.
  Sie informieren in persönlichen Gesprächen z.B. über Einstellungsvoraus
 setzungen\,  Bewerbung\,  Auswahlverfahren\,  Ausbildung\,  Studium und Kar
 rierechancen. • Bundespolizei • Landespolizei • Bundeswehr • Zoll W
 eitere Infos finden Sie hier. &nbsp;\nhttps://elternpower-brandenburg.de/ev
 ents/tag-der-uniformen-2
URL:https://elternpower-brandenburg.de/events/tag-der-uniformen-2
END:VEVENT
END:VCALENDAR