BEGIN:VCALENDAR
VERSION:2.0
PRODID:-//eventon.com NONSGML v1.0//EN
CALSCALE:GREGORIAN
METHOD:PUBLISH
BEGIN:VEVENT
UID:69e8a4e9c3353
DTSTAMP:20260422T103729Z
DTSTART:20230404T210000Z
DTEND:20230405T010000Z
LOCATION:Berufsinformationszentrum (BiZ) Potsdam  Horstweg 102-108 (EG)
SUMMARY:"Das perfekte Vorstellungsgespräch"
DESCRIPTION:Die richtige Bewerbungsstrategie &#8211; Wie bereite ich mich v
 or? Was ziehe ich an? Mit welchen Fragen muss ich rechnen? Durch praktische
  Übungen bereiten wir Euch auf diese Fragen und Situationen vor! WICHTIG: 
 Es steht nur eine begrenzte Teilnehmeranzahl zur Verfügung. Für die Teiln
 ahme ist eine Voranmeldung unter Tel.: 0331/880-2149 oder[..]\nhttps://elte
 rnpower-brandenburg.de/events/das-perfekte-vorstellungsgespraech-5
URL:https://elternpower-brandenburg.de/events/das-perfekte-vorstellungsgespraech-5
END:VEVENT
END:VCALENDAR