BEGIN:VCALENDAR
VERSION:2.0
PRODID:-//eventon.com NONSGML v1.0//EN
CALSCALE:GREGORIAN
METHOD:PUBLISH
BEGIN:VEVENT
UID:69e8a56e4a0c4
DTSTAMP:20260422T103942Z
DTSTART:20230506T210000Z
DTEND:20230507T020000Z
LOCATION:Niederlausitzhalle Schillerstraße 34 01968 Senftenberg
SUMMARY:Finde deine Leidenschaft
DESCRIPTION:Die Ausbildungsmesse &#8222;Finde deine Leidenschaft&#8220; in 
 Senftenberg ist die größte Messe rund um das Thema Ausbildung in Südbran
 denburg. Sie unterstützt Unternehmen aus Industrie\,  Handel\,  Dienstleis
 tung und Handwerk neugierige und motivierte Bewerberinnen und Bewerber zu f
 inden. Mehr als 70 Unternehmen präsentieren sich mit ihren Ausbildungs- un
 d Studienangeboten. Spannende Präsentationen laden die[..]\nhttps://eltern
 power-brandenburg.de/events/finde-deine-leidenschaft
URL:https://elternpower-brandenburg.de/events/finde-deine-leidenschaft
END:VEVENT
END:VCALENDAR