BEGIN:VCALENDAR
VERSION:2.0
PRODID:-//eventon.com NONSGML v1.0//EN
CALSCALE:GREGORIAN
METHOD:PUBLISH
BEGIN:VEVENT
UID:69e731b316ac7
DTSTAMP:20260421T081339Z
DTSTART:20230510T230000Z
DTEND:20230511T020000Z
LOCATION:Königs Wusterhausen\,  Brunnenplatz
SUMMARY:IHK CouchTour 2023\,  Königs Wusterhausen
DESCRIPTION:SCHULE UND WAS DANN? KEINEN PLAN? Komm vorbei und setz’ dich!
  Die IHK Cottbus mach halt in Königs Wusterhausen am Brunnenplatz in Köni
 gs Wusterhausen und berät in Sachen Berufsorientierung und Last-Minute-Ber
 atung. Mit dabei: &#8211; VR-Brillen für den Einblick in die Ausbildungsbe
 rufe &#8211; Jede Menge freie Ausbildungsplätze &#8211; Bewerbungsunterlag
 en-Check &#8211; Eine[..]\nhttps://elternpower-brandenburg.de/events/ihk-co
 uchtour-2023-koenigs-wusterhausen
URL:https://elternpower-brandenburg.de/events/ihk-couchtour-2023-koenigs-wusterhausen
END:VEVENT
END:VCALENDAR