BEGIN:VCALENDAR
VERSION:2.0
PRODID:-//eventon.com NONSGML v1.0//EN
CALSCALE:GREGORIAN
METHOD:PUBLISH
BEGIN:VEVENT
UID:69e8bb05a8301
DTSTAMP:20260422T121149Z
DTSTART:20230512T020000Z
DTEND:20230512T030000Z
LOCATION:
SUMMARY:Studienorientierung Digital an der BTU Cottbus - Video-Chat mit Studienberater*innen
DESCRIPTION:Die Informations-Runde für Studieninteressierte gibt Antworten
  auf alle Fragen rund um ein Studium an der BTU: Studienwahl und Studienent
 scheidung\,  Bewerbung\,  Studienvorbereitung und Studienbeginn\,  Studienb
 edingungen und Studienablauf\,  Hochschulzugang ohne allgemeine Hochschulre
 ife. Den Link zum Video-Meeting findest du hier &nbsp; Weitere Informatione
 n gibt es auf der Homepage der BTU Cottbus.\nhttps://elternpower-brandenbur
 g.de/events/studienorientierung-digital-an-der-btu-cottbus-video-chat-mit-s
 tudienberaterinnen
URL:https://elternpower-brandenburg.de/events/studienorientierung-digital-an-der-btu-cottbus-video-chat-mit-studienberaterinnen
END:VEVENT
END:VCALENDAR