BEGIN:VCALENDAR
VERSION:2.0
PRODID:-//eventon.com NONSGML v1.0//EN
CALSCALE:GREGORIAN
METHOD:PUBLISH
BEGIN:VEVENT
UID:69e6ceebceab3
DTSTAMP:20260421T011211Z
DTSTART:20230713T210000Z
DTEND:20230714T013000Z
LOCATION:Berufsinformationszentrum (BiZ) Potsdam  Horstweg 102-108 (EG)
SUMMARY:"BiZ-Spezial fÃ¼r Abiturienten - Workshop VorstellungsgesprÃ¤ch"
DESCRIPTION:Hast du noch Unsicherheiten beim Bewerben um eine Ausbildung od
 er einen dualen Studienplatz? Kennst du die HÃ¼rden in einem Vorstellungsge
 sprÃ¤ch? Hier erlebst du dich selbst in praktischen Ãœbungen und erhÃ¤ltst 
 ein direktes Feedback von den anderen Kursteilnehmern. * Erforderliche Anga
 ben zu den Hygiene-Regeln werden ggf. zeitnah bekannt gegeben.* WICHTIG: FÃ
 ¼r[..]\nhttps://elternpower-brandenburg.de/events/biz-spezial-fuer-abiturie
 nten-workshop-vorstellungsgespraech-5
URL:https://elternpower-brandenburg.de/events/biz-spezial-fuer-abiturienten-workshop-vorstellungsgespraech-5
END:VEVENT
END:VCALENDAR