BEGIN:VCALENDAR
VERSION:2.0
PRODID:-//eventon.com NONSGML v1.0//EN
CALSCALE:GREGORIAN
METHOD:PUBLISH
BEGIN:VEVENT
UID:69e625e079e0b
DTSTAMP:20260420T131056Z
DTSTART:20230811T200000Z
DTEND:20230812T000000Z
LOCATION:Berufsinformationszentrum (BiZ) Potsdam  Horstweg 102-108 (EG)
SUMMARY:Ferien-Workshop "Eignungstest - was kommt auf mich zu?"
DESCRIPTION:Einstellungstests von Arbeitgebern sind gängig\,  um die beste
 n Bewerber herauszufiltern! Unter reellen Bedingungen kannst du einen mehrs
 tündigen Eignungstest absolvieren und im Anschluss ein detailliertes Feedb
 ack von den schriftlichen Ergebnissen mitnehmen. * Erforderliche Angaben zu
  den Hygiene-Regeln werden ggf. zeitnah bekannt gegeben. * WICHTIG: Es steh
 t nur eine begrenzte Teilnehmeranzahl zur[..]\nhttps://elternpower-brandenb
 urg.de/events/ferien-workshop-eignungstest-was-kommt-auf-mich-zu-copy
URL:https://elternpower-brandenburg.de/events/ferien-workshop-eignungstest-was-kommt-auf-mich-zu-copy
END:VEVENT
END:VCALENDAR