BEGIN:VCALENDAR
VERSION:2.0
PRODID:-//eventon.com NONSGML v1.0//EN
CALSCALE:GREGORIAN
METHOD:PUBLISH
BEGIN:VEVENT
UID:69e4d027c8258
DTSTAMP:20260419T125255Z
DTSTART:20230706T030000Z
DTEND:20230706T053000Z
LOCATION:
SUMMARY:Deutsche Flugsicherung DFS – online Schnuppertag
DESCRIPTION:In knapp 2\, 5 Stunden präsentieren wir Ihnen kompakt alles Wi
 chtige rund um das Auswahlverfahren\,  die Ausbildung und die Arbeit unsere
 r Fluglotsen. Erfahren Sie aus erster Hand\,  wie der Ausbildung- und Arbei
 tsalltag unserer Lotsen aussieht und stellen Sie uns alle Fragen\,  die Sie
  rund um das Berufsbild beschäftigen. Bitte beachten Sie:[..]\nhttps://elt
 ernpower-brandenburg.de/events/deutsche-flugsicherung-dfs-online-schnuppert
 ag-2
URL:https://elternpower-brandenburg.de/events/deutsche-flugsicherung-dfs-online-schnuppertag-2
END:VEVENT
END:VCALENDAR