BEGIN:VCALENDAR
VERSION:2.0
PRODID:-//eventon.com NONSGML v1.0//EN
CALSCALE:GREGORIAN
METHOD:PUBLISH
BEGIN:VEVENT
UID:69eca07f09697
DTSTAMP:20260425T110743Z
DTSTART:20230929T030000Z
DTEND:20230929T050000Z
LOCATION:Berufsinformationszentrum (BiZ) Potsdam  Horstweg 102-108 (EG)
SUMMARY:„Berufe und Studium in der Rechtsbranche“
DESCRIPTION:Du trägst gern Verantwortung\,  hast einen ausgeprägten Gerec
 htigkeitssinn und möchtest Menschen helfen? Von Vertretern des Oberlandesg
 erichts Brandenburg sowie der Universität Potsdam erhältst du umfassende 
 Informationen zu der spannenden Ausbildung zum/zur Justizfachwirt/in und de
 n Studiengängen Rechtswissenschaften und Rechtspfleger/in. 16.00 Uhr &#821
 1; Präsentation der Ausbildung zum/zur Justizfachwirt/in sowie Studium zum
 /zur Rechtspfleger/in 17.00[..]\nhttps://elternpower-brandenburg.de/events/
 berufe-und-studium-in-der-rechtsbranche
URL:https://elternpower-brandenburg.de/events/berufe-und-studium-in-der-rechtsbranche
END:VEVENT
END:VCALENDAR