BEGIN:VCALENDAR
VERSION:2.0
PRODID:-//eventon.com NONSGML v1.0//EN
CALSCALE:GREGORIAN
METHOD:PUBLISH
BEGIN:VEVENT
UID:69e72fef22c3e
DTSTAMP:20260421T080607Z
DTSTART:20231013T030000Z
DTEND:20231013T051500Z
LOCATION:Berufsinformationszentrum (BiZ) Potsdam  Horstweg 102-108 (EG)
SUMMARY:„Berufe und Karriere in Uniform“
DESCRIPTION:Vertreter/innen der Bundes- und Landespolizei\,  der Bundeswehr
  und des Zolls informieren über alles Wissenswerte. Wer sich vorstellen ka
 nn\,  beruflich für die Sicherheit des Landes zu sorgen\,  kann sich über
  Berufsbild\,  Anforderungen\,  Einsatzmöglichkeiten\,  Einstellungsvoraus
 setzungen und Eignungstests in den verschiedenen Laufbahnen ein umfassendes
  Bild machen. Die Einstellungsberater/innen der verschiedenen Behörden ste
 hen interessierten[..]\nhttps://elternpower-brandenburg.de/events/berufe-un
 d-karriere-in-uniform-mit-vertretern-vom-zoll-polizei-bundespolizei-und-bun
 deswehr
URL:https://elternpower-brandenburg.de/events/berufe-und-karriere-in-uniform-mit-vertretern-vom-zoll-polizei-bundespolizei-und-bundeswehr
END:VEVENT
END:VCALENDAR