BEGIN:VCALENDAR
VERSION:2.0
PRODID:-//eventon.com NONSGML v1.0//EN
CALSCALE:GREGORIAN
METHOD:PUBLISH
BEGIN:VEVENT
UID:69e8a513adca8
DTSTAMP:20260422T103811Z
DTSTART:20231215T040000Z
DTEND:20231215T060000Z
LOCATION:ViP-Betriebshof (Haltestellen: Betriebshof ViP\,  Abzweig Betriebshof ViP) Fritz-Zubeil-Straße 96\,  14482 Potsdam
SUMMARY:Ausbildungsabend bei den Stadtwerken Potsdam
DESCRIPTION:Wir bieten engagierten\,  jungen Menschen vielfältige Möglich
 keiten für den Berufsstart. Mit uns könnt Ihr unsere Heimatstadt mitgesta
 lten und noch lebenswerter machen. Mit einer Ausbildung bei uns geben wir D
 ir die Chance\,  Dich zu entwickeln und zu spezialisieren. Beim Ausbildungs
 abend stellen wir spannende Ausbildungsprofile im gewerblich-technischen Be
 reich als Industriemechaniker*in\,  Mechatroniker*in\,  KFZ-Mechatroniker*i
 n[..]\nhttps://elternpower-brandenburg.de/events/ausbildungsabend-bei-den-s
 tadtwerken-potsdam
URL:https://elternpower-brandenburg.de/events/ausbildungsabend-bei-den-stadtwerken-potsdam
END:VEVENT
END:VCALENDAR