BEGIN:VCALENDAR
VERSION:2.0
PRODID:-//eventon.com NONSGML v1.0//EN
CALSCALE:GREGORIAN
METHOD:PUBLISH
BEGIN:VEVENT
UID:69e8ce70d7e02
DTSTAMP:20260422T133440Z
DTSTART:20240214T053000Z
DTEND:20240214T070000Z
LOCATION:Virtueller Raum
SUMMARY:elternpowertalk 2024:  10. Klasse und wie weiter?
DESCRIPTION:Welche Ausbildung passt zu meinem Kind? Wie findet es den richt
 igen Ausbildungsbetrieb? Wie kann ich mein Kind dabei am besten unterstütz
 en? In dieser digitalen Talkrunde erhalten Sie Einblicke in unterschiedlich
 e Berufswege sowie deren Zukunftsaussichten und können Ihre persönlichen 
 Fragen an die Expertinnen und Experten der Industrie- und Handelskammer\,  
 Handwerkskammer\,  Agentur[..]\nhttps://elternpower-brandenburg.de/events/e
 lternpowertalk-2024-10-klasse-und-wie-weiter
URL:https://elternpower-brandenburg.de/events/elternpowertalk-2024-10-klasse-und-wie-weiter
END:VEVENT
END:VCALENDAR