BEGIN:VCALENDAR
VERSION:2.0
PRODID:-//eventon.com NONSGML v1.0//EN
CALSCALE:GREGORIAN
METHOD:PUBLISH
BEGIN:VEVENT
UID:69e8d034e4315
DTSTAMP:20260422T134212Z
DTSTART:20240301T053000Z
DTEND:20240301T070000Z
LOCATION:Virtueller Raum
SUMMARY:elternpowertalk 2024:  Abitur und wie weiter?
DESCRIPTION:Welche Ausbildung\,  welches Studium passt zu meinem Kind? Wie 
 findet es den richtigen Ausbildungsbetrieb? Wie kann ich mein Kind dabei am
  besten unterstützen? In dieser digitalen Talkrunde erhalten Sie Einblicke
  in unterschiedliche Berufswege sowie deren Zukunftsaussichten und können 
 Ihre persönlichen Fragen an die Expertinnen und Experten der Industrie- un
 d Handelskammer\, [..]\nhttps://elternpower-brandenburg.de/events/elternpow
 ertalk-2024-abitur-und-wie-weiter-2
URL:https://elternpower-brandenburg.de/events/elternpowertalk-2024-abitur-und-wie-weiter-2
END:VEVENT
END:VCALENDAR