BEGIN:VCALENDAR
VERSION:2.0
PRODID:-//eventon.com NONSGML v1.0//EN
CALSCALE:GREGORIAN
METHOD:PUBLISH
BEGIN:VEVENT
UID:69eb8c8791097
DTSTAMP:20260424T153015Z
DTSTART:20240404T093000Z
DTEND:20240404T164500Z
LOCATION:Agentur für Arbeit Potsdam Berufsinformationszentrum (BiZ) Horstweg 102-108 (EG) 14478 Potsdam
SUMMARY:BiZ-Spezial für Abiturienten/innen “Ferien-Workshop: Trainingstag für den TMS”
DESCRIPTION:Fit werden für den Medizinertest! Studienplätze im Bereich Me
 dizin sind hart umkämpft. Bei der Auswahl ihrer Studierenden betrachten vi
 ele Hochschulen (darunter auch die Charité) nicht nur den Numerus Clausus\
 ,  sondern auch das Ergebnis des Tests für Medizinische Studiengänge (TMS
 ). Auf diesen Test sollte und kann man sich gut vorbereiten –[..]\nhttps:
 //elternpower-brandenburg.de/events/biz-spezial-fuer-abiturienten-innen-fer
 ien-workshop-trainingstag-fuer-den-tms
URL:https://elternpower-brandenburg.de/events/biz-spezial-fuer-abiturienten-innen-ferien-workshop-trainingstag-fuer-den-tms
END:VEVENT
END:VCALENDAR