BEGIN:VCALENDAR
VERSION:2.0
PRODID:-//eventon.com NONSGML v1.0//EN
CALSCALE:GREGORIAN
METHOD:PUBLISH
BEGIN:VEVENT
UID:69e8a588666cf
DTSTAMP:20260422T104008Z
DTSTART:20240517T010000Z
DTEND:20240517T040000Z
LOCATION:Meistersaal Altmarkt 17\,  Cottbus
SUMMARY:Speedating mit Regionalen Unternehmen
DESCRIPTION:Diese Veranstaltung richtet sich an Schulabgänger:innen und St
 udienabbrecher:innen. Die jugendliche Zielgruppe und Eltern sind herzlich 
  im Meistersaal in Cottbus willkommen. Da Cottbus prima an Berlin angebunde
 n ist\,  sind durchaus auch Berliner:innen oder sonstige Brandenburger:inne
 n herzlich willkommen. &nbsp; Flyer Matching Day &nbsp; &nbsp; &nbsp; &nbsp
 ;\nhttps://elternpower-brandenburg.de/events/speedating-mit-regionalen-unte
 rnehmen
URL:https://elternpower-brandenburg.de/events/speedating-mit-regionalen-unternehmen
END:VEVENT
END:VCALENDAR