BEGIN:VCALENDAR
VERSION:2.0
PRODID:-//eventon.com NONSGML v1.0//EN
CALSCALE:GREGORIAN
METHOD:PUBLISH
BEGIN:VEVENT
UID:69e9ada9a517d
DTSTAMP:20260423T052705Z
DTSTART:20240425T090000Z
DTEND:20240425T150000Z
LOCATION:Bildungs- und Innovationscampus Handwerk Am Mühlenberg 15 14550 Groß Kreutz (Havel)
SUMMARY:Zukunftstag Brandenburg 2024 für Mädchen und Jungen
DESCRIPTION:Die Handwerkskammer Potsdam lädt handwerklich und kreativ inte
 ressierte Schülerinnen und Schüler der Klassenstufen 7-10 herzlich zum 22
 . Zukunftstag\,  am 25.04.2024\,  in den Bildungs- und Innovationscampus Ha
 ndwerk (BIH) ein. Ein abwechslungsreicher und spannender Tag informiert die
  Teilnehmenden über die Vielzahl der Ausbildungsmöglichkeiten im Handwerk
 . Neben einem Rundgang durch die Werkstätten der[..]\nhttps://elternpower-
 brandenburg.de/events/zukunftstag-brandenburg-2024-fuer-maedchen-und-jungen
URL:https://elternpower-brandenburg.de/events/zukunftstag-brandenburg-2024-fuer-maedchen-und-jungen
END:VEVENT
END:VCALENDAR