BEGIN:VCALENDAR
VERSION:2.0
PRODID:-//eventon.com NONSGML v1.0//EN
CALSCALE:GREGORIAN
METHOD:PUBLISH
BEGIN:VEVENT
UID:69ebde5f088a7
DTSTAMP:20260424T211927Z
DTSTART:20240425T180000Z
DTEND:20240425T193000Z
LOCATION:
SUMMARY:Berufe der Zukunft – Branchen und Trends in Berlin und Brandenburg
DESCRIPTION:Gemeinsam mit Expert*Innen werden die Zukunftstrends analysiert
 . Weitere Informationen finden Sie hier.\nhttps://elternpower-brandenburg.d
 e/events/berufe-der-zukunft-branchen-und-trends-in-berlin-und-brandenburg
URL:https://elternpower-brandenburg.de/events/berufe-der-zukunft-branchen-und-trends-in-berlin-und-brandenburg
END:VEVENT
END:VCALENDAR