BEGIN:VCALENDAR
VERSION:2.0
PRODID:-//eventon.com NONSGML v1.0//EN
CALSCALE:GREGORIAN
METHOD:PUBLISH
BEGIN:VEVENT
UID:69e8a5324d3bb
DTSTAMP:20260422T103842Z
DTSTART:20241025T090000Z
DTEND:20241025T130000Z
LOCATION:Agentur für Arbeit Potsdam Berufsinformationszentrum (BiZ) Horstweg 102-108 (EG) 14478 Potsdam
SUMMARY:Ferien-Workshop “Eignungstest – was kommt auf mich zu?”
DESCRIPTION:Einstellungstests von Arbeitgebern sind gängig\,  um die beste
 n Bewerber herauszufiltern! Unter reellen Bedingungen kannst du einen mehrs
 tündigen Eignungstest absolvieren und im Anschluss ein detailliertes Feedb
 ack von den schriftlichen Ergebnissen mitnehmen. WICHTIG: Es steht nur eine
  begrenzte Teilnehmeranzahl zur Verfügung! Für die Teilnahme ist eine Vor
 anmeldung unter Tel.: 0331/880-2149 oder E-Mail:[..]\nhttps://elternpower-b
 randenburg.de/events/ferien-workshop-eignungstest-was-kommt-auf-mich-zu-13
URL:https://elternpower-brandenburg.de/events/ferien-workshop-eignungstest-was-kommt-auf-mich-zu-13
END:VEVENT
END:VCALENDAR