BEGIN:VCALENDAR
VERSION:2.0
PRODID:-//eventon.com NONSGML v1.0//EN
CALSCALE:GREGORIAN
METHOD:PUBLISH
BEGIN:VEVENT
UID:69eb2f7bd5cbe
DTSTAMP:20260424T085315Z
DTSTART:20241025T210000Z
DTEND:20241025T230000Z
LOCATION:Berufsinformationszentrum (BiZ) Potsdam  Horstweg 102-108 (EG)
SUMMARY:BiZ-Spezial für Abiturienten/innen – “Bewerbung um einen Studienplatz”
DESCRIPTION:Wissen zahlt sich aus! Für bundesweite Studiengänge werden da
 s Auswahlverfahren der Stiftung für Hochschul- zulassung sowie die Regelun
 gen der örtlichen Auswahlverfahren erläutert. Ob Numerus Clausus\,  Warte
 semester oder Bewerbungsmodalitäten &#8211; in dieser Informationsveransta
 ltung bleiben keine Fragen offen. WICHTIG: Für die Teilnahme ist eine Vora
 nmeldung unter Tel.: 0331/880-2149 oder E-Mail: Potsdam.BiZ@arbeitsagentur.
 de erforderlich![..]\nhttps://elternpower-brandenburg.de/events/biz-spezial
 -fuer-abiturienten-innen-bewerbung-um-einen-studienplatz-3
URL:https://elternpower-brandenburg.de/events/biz-spezial-fuer-abiturienten-innen-bewerbung-um-einen-studienplatz-3
END:VEVENT
END:VCALENDAR