BEGIN:VCALENDAR
VERSION:2.0
PRODID:-//eventon.com NONSGML v1.0//EN
CALSCALE:GREGORIAN
METHOD:PUBLISH
BEGIN:VEVENT
UID:69e88e5c0b7b2
DTSTAMP:20260422T090116Z
DTSTART:20250226T170000Z
DTEND:20250226T183000Z
LOCATION:
SUMMARY:Digitaler Elternabend: “Klasse 10 und wie weiter?” – Schulamtsbereich Neuruppin
DESCRIPTION:Ihr Kind geht im Havelland\,  der Oberhavel\,  in Ostprignitz-
 Ruppin oder in der Prignitz zur Schule? Wir laden Sie gemeinsam mit unsere
 n Partnern der Agentur für Arbeit\,  Industrie- und Handelskammer Potsdam 
 sowie der Handwerkskammer Potsdam zu unserem kostenfreien\,  digitalen elt
 ernpower Infoabend ein. Hier erfahren Eltern als Berufswahlbegleiter ihre
 r Kinder\,  welche beruflichen Perspektiven nach dem Schulabschluss für[..
 ]\nhttps://elternpower-brandenburg.de/events/digitaler-elternabend-klasse-1
 0-und-wie-weiter-schulamtsbereich-neuruppin24
URL:https://elternpower-brandenburg.de/events/digitaler-elternabend-klasse-10-und-wie-weiter-schulamtsbereich-neuruppin24
END:VEVENT
END:VCALENDAR