BEGIN:VCALENDAR
VERSION:2.0
PRODID:-//eventon.com NONSGML v1.0//EN
CALSCALE:GREGORIAN
METHOD:PUBLISH
BEGIN:VEVENT
UID:69e5eae7861c9
DTSTAMP:20260420T085919Z
DTSTART:20250116T170000Z
DTEND:20250116T183000Z
LOCATION:
SUMMARY:Die digitale ElternAkademie im Schuljahr 2024/2025
DESCRIPTION:Willkommen bei unseren Elternveranstaltungen. Ihr Kind beendet 
 bald die Schule? Unsere ElternAkademie informiert zu allen Themen\,  die da
 nn wichtig werden &#8211; gemeinsam mit Expert*innen aus Wirtschaft\,  Wiss
 enschaft und Praxis &#8211; damit Studien- und Berufswahl gelingt! Bitte me
 lden Sie sich hier an. &nbsp;\nhttps://elternpower-brandenburg.de/events/di
 e-digitale-elternakademie-im-schuljahr-2024-2025-5
URL:https://elternpower-brandenburg.de/events/die-digitale-elternakademie-im-schuljahr-2024-2025-5
END:VEVENT
END:VCALENDAR